BEGIN:VCALENDAR
VERSION:2.0
PRODID:http://www.pcl.lu
BEGIN:VEVENT
UID:029F90E702E83125C125836C007913DF
CATEGORIES:Porsche Club Luxembourg
SUMMARY:Festival de l&#039;automobilie : Centre Porsche Luxembourg
DESCRIPTION:Festival de l’automobile au Porsche Zenter Lëtzebuerg\n\nCher 
 membre Porschiste,Pour bien commencer l’année automobile, nos amis garagis
 tes nous proposent le fameux „Autofestival“, qui connait un succès fulgura
 nt depuis des décennies au Luxembourg!A l’aube de la nouvelle génération d
 e la 911, le Porsche Zenter Lëtzebuerg, en tant que notre sponsor principa
 l, a eu la bonne idée d’organiser une exposition des anciens modèles de l’
 histoire de cette icône.Ainsi, le PCL et le Classic Club vont exposer une 
 douzaine de voitures représentant chaque génération de la 911 dans les ate
 liers du PZL les samedi et dimanche du Festival, à savoir le 26 &amp; 27 j
 anvier ainsi que le 2 &amp; 3 février.Nous serons également présents penda
 nt ces 4 jours et nous vous invitons chaleureusement à nous rendre visite;
  en plus, nous prévoyons d’aller dîner ensemble au soir du dimanche 27 jan
 vier et 3 février, avis aux amateurs!Au plaisir de vous y rencontrer, avec
  nos salutations sportives\n\n\n\nhttp://www.pcl.lu/PorscheClubs/pc_luxemb
 ourg/pc_main.nsf/web/029F90E702E83125C125836C007913DF
DTSTART;VALUE=DATE:20190126
DTEND;VALUE=DATE:20190205
DTSTAMP:20190120T120342Z
END:VEVENT
END:VCALENDAR
