BEGIN:VCALENDAR
VERSION:2.0
PRODID:http://www.pcl.lu
BEGIN:VEVENT
UID:11119EA0FC471A7BC125836C0079E7D0
CATEGORIES:Porsche Club Luxembourg
SUMMARY:Dîner de clôture saison 2019
DESCRIPTION:Le comité du PCL a l’honneur de t’inviter au dîner de clôture 
 2019.Cette année, nous nous orientons plein sud vers le restaurant BEEFTRO
  à Belval!Ce Restaurant a développé un procédé très raffiné pour parfaire 
 la cuisson de ses viandes et poissons: ils passent dans 3 fours différents
  - laissez-vous surprendre!Coordonnées: 10, Avenue du Rock’n Roll, L-4361 
 Esch/Belval - Tel: 28 99 81 90 (juste en face de la Rockhal).Nous vous don
 nons rendez-vous le samedi 30 novembre à partir de 18.30 pour l’apéritiv.N
 ous allons encore faire suivre des recommandations pour vous garer.LE MENU
  : \n\nEntrée:\n\n3 Döner Kebab composés de Kabe &amp; Black Angus, sauce 
 blanche\n\nou La Salade Kale composée de kale, avocat, parmesant &amp; zes
 te de citron\n\n1er Plat:\n\nPâtes farcies à la Truffe &amp; au fromage\n\
 nou Risotto végétarien\n\n2è Plat:\n\nLe petit files d'Erminio Angus Argen
 tin 200gr\n\nou Thon Satay épicé &amp; salade de wakame\n\nou Veggie Burge
 r Sauce Pesto Kale\n\nDessert:\n\nCroquant à la mousse au chocolat\n\nou T
 hin &amp; Crispy apple tart\n\nAU PROGRAMME\n\nLa remise des prix du champ
 ionnat 2019 (et aussi les trophées de l’an passé!).Une animation musicale 
 avec DJ et piste de danse est prévue.PARTICIPATION\n\n85,- € par personne;
  maximum 1 personne accompagnante par membre.\n\n \n\nINSCRIPTION\n\n \n\n
 Dans l’espoir de vous voir nombreux, nous vous prions de vous inscrire via
  notre site jusqu’au 22 novembre 2019 au plus tard afin de garantir vos pl
 aces.\n\n\n\nhttp://www.pcl.lu/PorscheClubs/pc_luxembourg/pc_main.nsf/web/
 11119EA0FC471A7BC125836C0079E7D0
DTSTART;VALUE=DATE:20191130
DTSTAMP:20191103T122251Z
END:VEVENT
END:VCALENDAR
