BEGIN:VCALENDAR
VERSION:2.0
PRODID:http://www.pcl.lu
BEGIN:VEVENT
UID:1EC26E1240A635A2C12583A20035AEA7
CATEGORIES:Porsche Club Luxembourg
SUMMARY:Trackday Goodyear
DESCRIPTION:Dans le cadre du trackday du HSRC, nous allons de nouveau roul
 er sur le circuit Goodyear le samedi 14.09.2019.De 10-12.00 et de 14-16.00
 , la piste est exclusivement réservée pour le Porsche Club Luxembourg.Les 
 inscriptions sont limitées à 30 voitures car un maximum de 20 voitures est
  autorisé de rouler simultanément sur le circuit.Nous allons nous rassembl
 er à la sortie des anciens garages\n\nlien vers le plan d'accès\n\nUniquem
 ent les voitures des pilotes inscrits au trackday y auront accès.\n\nNous 
 serons présents sur site à partir de 09:00 heures jusqu'à 17:00 heures.\n\
 nLe tarif de l'inscription de 245,- € inclus le "open-bar" avec des boisso
 ns non-alcooliques (softs, café).\n\n \n\nLe briefing obligatoire pour tou
 s les pilotes se tiendra à 9:30 hrs dans la tente.\n\nATTENTION: les voitu
 res décapotables ne sont malheureusement pas permises (règle Goodyear).\n\
 n \n\nLe repas de midi sera servi par le food-truck "Amore Al Dente". Les 
 consommations seront à payer individuellement.\n\nLe tarif "open-bar"  pou
 r les membres et leurs accompagnants est de 10,- € par personne \n\nLe tar
 if du passager (baptême) inclus "open-bar" est de 30,- € \n\n \n\nINSCRIPT
 IONS:\n\nFormulaire pour participer comme pilote\n\nLien vers le formulair
 e pour commander les tickets "open-bar" pour vos accompagnements et les ti
 ckets passagers / baptêmes\n\n \n\n\n\nhttp://www.pcl.lu/PorscheClubs/pc_l
 uxembourg/pc_main.nsf/web/1EC26E1240A635A2C12583A20035AEA7
DTSTART;VALUE=DATE:20190914
DTSTAMP:20190719T193321Z
END:VEVENT
END:VCALENDAR
