BEGIN:VCALENDAR
VERSION:2.0
PRODID:http://www.pcl.lu
BEGIN:VEVENT
UID:49389F6245C3456AC12584EC00360242
CATEGORIES:Porsche Club Luxembourg
SUMMARY:Festival de l’automobile au Porsche Zenter Lëtzebuerg
DESCRIPTION:Pour bien commencer l’année automobile, nos amis garagistes no
 us proposent le fameux „Autofestival“, qui connait un succès fulgurant dep
 uis des décennies au Luxembourg!Cette année la grande star du festival du 
 PZL sera la nouvelle Taycan. Le PCL et le Classic Club vont également expo
 ser de belles voitures dans les ateliers du PZL les samedi et dimanche du 
 Festival, à savoir le 25 &amp; 26 janvier ainsi que le 1 &amp; 2 février.N
 ous serons également présents pendant ces 4 jours et nous vous invitons ch
 aleureusement à nous rendre visite.En plus, nous prévoyons un apéro le 2e 
 samedi du festival, le 1er février, à partir de 17.00 heures et nous allon
 s finir la soirée au Restaurant La Duchessa à Kockelscheuer.\n\n\n\nhttp:/
 /www.pcl.lu/PorscheClubs/pc_luxembourg/pc_main.nsf/web/49389F6245C3456AC12
 584EC00360242
DTSTART;VALUE=DATE:20200125
DTEND;VALUE=DATE:20200204
DTSTAMP:20200111T094956Z
END:VEVENT
END:VCALENDAR
