BEGIN:VCALENDAR
VERSION:2.0
PRODID:http://www.pcl.lu
BEGIN:VEVENT
UID:5332E21AFC2C0FE0C125836C00792761
CATEGORIES:Porsche Club Luxembourg
SUMMARY:Assemblée Générale 2019
DESCRIPTION:http://www.pcl.lu/PorscheClubs/pc_luxembourg/pc_main.nsf/web/5
 332E21AFC2C0FE0C125836C00792761
DTSTART;VALUE=DATE:20190302
DTSTAMP:20181223T220319Z
END:VEVENT
END:VCALENDAR
