BEGIN:VCALENDAR
VERSION:2.0
PRODID:http://www.pcl.lu
BEGIN:VEVENT
UID:77A2B5BE7FA3407FC12583AF006C48D9
CATEGORIES:Porsche Club Luxembourg
SUMMARY:Télévie Schifflange
DESCRIPTION:Le PCL s'engage pour le Télévie et sera présent au centre de p
 romesses Schifflange.\n\nNous allons rouler pour la bonne cause : de 10:00
  à 17:00 heures nous serons présent à Schifflange et ferons des baptêmes (
 tarif 15€ par voyage). Les recettes seront versées sur le compte du Télévi
 e 2019.\n\nLes membres du club sont invités de particper en mettant gracie
 usement à disposition leur belle Porsche et de rouler des baptêmes autour 
 de Schifflange. Si tu es intéressé de d'aider et de particper (matin, aprè
 s-midi ou toute la journée) à cette bonne cause, nous te prions de bien vo
 uloir t'inscrire sur notre site.\n\n \n\nINSCRIPTION\n\n\n\n\n\nhttp://www
 .pcl.lu/PorscheClubs/pc_luxembourg/pc_main.nsf/web/77A2B5BE7FA3407FC12583A
 F006C48D9
DTSTART;VALUE=DATE:20190427
DTSTAMP:20190404T140958Z
END:VEVENT
END:VCALENDAR
