BEGIN:VCALENDAR
VERSION:2.0
PRODID:http://www.pcl.lu
BEGIN:VEVENT
UID:89ECEEA3743882FDC125836C0079BE9F
CATEGORIES:Porsche Club Luxembourg
SUMMARY:Porsche Days SPA
DESCRIPTION:Pour tous les passionnés de la marque Porsche, le Porsche Club
  Francorchamps organise son traditionnel "Porsche Days" sur le merveilleux
  circuit de Spa Francorchamps.Notre club sera présent le weekend entier du
  13 / 14.04. et aura le plaisir de t’accueillir dans son PORSCHE CLUB LOUN
 GE aux box F1 en collaboration avec le Porsche Club Belgique et la Fédérat
 ion des Clubs Porsche de France.\n\nUne très belle infrastructure sera mis
 e à votre disposition comprenant 3 stands F1 (numéros 28, 29 &amp; 30) ave
 c un espace VIP et une très grande terrasse extérieure. Sans oublier et du
 rant tout le week end la présence d’un traiteur pour les encas, les boisso
 ns fraîches, un apéritif le ‪samedi soir‬ et tout cela dans une ambiance m
 usicale avec DJ Jack.Les 3 clubs t’invitons de participer à l’apéro offert
  le samedi à 18:00 heures. En même temps, nous organisons un grand quiz Po
 rsche avec des beaux prix à gagner - avis aux amateurs!\n\nL'apéro sera su
 ivi d'un BBQ hors du commun (grillades sur le pitlane, grand espace lounge
  et terrasse extérieure, ambiance DJ, etc.).\n\nPour le BBQ il faut s'insc
 rire et payer sa participation sur le site officiel de l'organisateur.\n\n
 Si tu veux participer au trackday, tu dois également t’inscrire sur le sit
 e de l’organisateur.\n\nLes ’inscriptions au circuit et au BBQ seront ouve
 rtes jusqu’à épuisement du stock de l’organisateur. Le paiement se fera en
  direct sur le site de l’organisateur. Le PCL offre un remboursement de 22
 5€ à chaque membre qui va participer à la sortie circuit du dimanche qui c
 omptera pour notre championnat. Le stationnement dans notre stand/box F1 e
 st offert par le club.\n\n \n\nPORSCHE CLUB LOUNGE\n\n \n\nC’est bel et bi
 en « The place to be » durant ces Porsche Days pour se désaltérer et se re
 poser quelques instants.\n\nPour les pilotes du Porsche Club Luxembourg in
 scrits pour la piste l’accès à notre espace PORSCHE CLUB LOUNGE est bien e
 ntendu intégralement libre. Les membres ne participant pas au roulage sur 
 la piste devront s'inscrire sur le site officiel de l'organisateur (prix "
 open bar et snacks" : 15€ / personne / jour). Bien évidemment tu pourras a
 ussi passer sans inscription, payer ton accès sur site et profiter du PORS
 CHE CLUB LOUNGE et passer un beau moment avec nous.\n\nLien inscription su
 r le site de l'organisateur. \n\nACCES ET WELCOMELes pilotes doivent s’ins
 crire au welcome desk de la tour 2.\n\nLes box pour les voitures sont les 
 numéros 34, 35 &amp; 36.Veuillez noter que l’accès traditionnel par la STE
 RR est déconseillé à cause de travaux, passez par LA SOURCE; le welcome de
 sk officiel se trouve d’ailleurs à l’hôtel de La Source!\n\nLes Porsche on
 t le droit de rentrer au Circuit, les autres peuvent se garer au P14 (8,- 
 €).\n\nToute inscription devra se faire exclusivement via le site de l''or
 ganisateur: Lien vers l'organisateur (informations et incscriptions)\n\n \
 n\nNous te prions de t'inscrire à titre d'information aussi sur notre site
 .\n\nInscription sur le site PCL\n\nATTENTION : que les membres inscris au
 rant droit au remboursement des 100€ (roulage dimanche!)\n\n \n\n\n\nhttp:
 //www.pcl.lu/PorscheClubs/pc_luxembourg/pc_main.nsf/web/89ECEEA3743882FDC1
 25836C0079BE9F
DTSTART;VALUE=DATE:20190413
DTEND;VALUE=DATE:20190415
DTSTAMP:20190327T205831Z
END:VEVENT
END:VCALENDAR
