BEGIN:VCALENDAR
VERSION:2.0
PRODID:http://www.pcl.lu
BEGIN:VEVENT
UID:E0B955F3260162C2C125836C0079CE8F
CATEGORIES:Porsche Club Luxembourg
SUMMARY:Summer BBQ
DESCRIPTION:L'édition 2019 de notre traditionnelle soirée "Summer BBQ" se 
 tiendra le 6 juillet au Golf du Château de Preischà partir de 19.00 heures
  (1 rue du Vieux Moulin à F-57570 Basse-Rentgen, directement derrière la f
 rontière Lux-France à Frisange).\n\nNous avons privatisé la salle de banqu
 et avec sa grande terrasse et son jardin annexé. Cet endroit mythique et c
 haleureux, se prête parfaitement à la réalisation d'une belle soirée comme
  nous les aimons tous.\n\n \n\nLe Menu BBQ: \n\nApéritif avec canapés clas
 siques et dips de légumesBuffet de grillades et salades + Show-Cooking Côt
 e à l'os "Maturation 6 semaines" entièreBuffet de desserts\n\n \n\nBoisson
 s: \n\nopenbar inclus dans le prix de la soirée \n\n \n\nAnimation pour no
 s membres: \n\nEn début de soirée une initiation au golf est organisée par
  le Golf de Preisch\n\n \n\nParking:\n\nLe parking du Golf de Preisch est 
 réservé pour assurer le stationnement de nos bolides. Il s'agit des emplac
 ements à ta gauche en rentrant sur le parking.\n\n \n\nInscription :\n\nLe
  prix de participation est de 59€ par personne (gratuit pour les enfants j
 usqu’à l’age de 12 ans et 29€ pour les enfants de 12 à 16 ans).\n\n \n\n\n
 \nhttp://www.pcl.lu/PorscheClubs/pc_luxembourg/pc_main.nsf/web/E0B955F3260
 162C2C125836C0079CE8F
DTSTART;VALUE=DATE:20190706
DTSTAMP:20190701T191051Z
END:VEVENT
END:VCALENDAR
