BEGIN:VCALENDAR
VERSION:2.0
PRODID:http://www.pcl.lu
BEGIN:VEVENT
UID:E143D4A08856240CC12584FD00748EDB
CATEGORIES:Porsche Club Luxembourg
SUMMARY:ANNULE (COVID-19): Porsche Days SPA
DESCRIPTION:REPORT DES #PCFD20 À 2021 - Message du comité organisateur des
  Porsche Club Francorchamps Days\n\nLe gouvernement Belge a prolongé l’int
 erdiction de tout rassemblement social intérieur et extérieur jusqu’au 19.
 04.2020 inclus. Le Porsche Club Francorchapns doit donc, hélas, annuler le
 s Porsche Club Francorchamps Days 2020 with Remeha ces 18 + 19.04.2020.\n\
 nLe calendrier du circuit de Spa-Francorchamps ne leur permet pas de vous 
 proposer une nouvelle date en 2020. Ils doivent donc reporter à 2021 la 20
 e édition des Porsche Club Francorchamps Days with Remeha. La date reste e
 ncore à fixer.\n\nUne communication détaillée sera adressée personnellemen
 t aux inscrits 2020 dans les prochains jours (de la part du Porsche Club F
 rancorchamps).\n\nD’ici-là prenez soin de vous, et de vos proches.Et n'oub
 liez pas : tous ensemble faisons tourner l'économie, pas le virus !\n\nLe 
 comité organisateur des Porsche Club Francorchamps Days\n\n\n\nhttp://www.
 pcl.lu/PorscheClubs/pc_luxembourg/pc_main.nsf/web/E143D4A08856240CC12584FD
 00748EDB
DTSTART;VALUE=DATE:20200418
DTEND;VALUE=DATE:20200420
DTSTAMP:20200405T144435Z
END:VEVENT
END:VCALENDAR
