BEGIN:VCALENDAR
VERSION:2.0
PRODID:http://www.pcl.lu
BEGIN:VEVENT
UID:020067FC1058728DC12584FD0076023B
CATEGORIES:Porsche Club Luxembourg
SUMMARY:Exposition 45 ans PCL à la City Concorde
DESCRIPTION:http://www.pcl.lu/PorscheClubs/pc_luxembourg/pc_main.nsf/web/0
 20067FC1058728DC12584FD0076023B
DTSTART;VALUE=DATE:20201026
DTEND;VALUE=DATE:20201101
DTSTAMP:20200128T212858Z
END:VEVENT
END:VCALENDAR
